3.17499999999999980
0.00000000000000000
0.00000000000000000
-3.17500000000000340
568141.15500000003000000
445035.59999999998000000
