3.17500000000001400
0.00000000000000000
0.00000000000000000
-3.17500000000000340
567925.51500000001000000
454450.73499999999000000
