3.17500000000001360
0.00000000000000000
0.00000000000000000
-3.17499999999999980
567786.01500000001000000
463748.48499999999000000
